BEGIN:VCALENDAR
VERSION:2.0
PRODID:-//Library Market//iCal Export//EN
BEGIN:VEVENT
SUMMARY:Meeting Room Use - Ashland
UID:15633
DTSTAMP:20260421T023500Z
DTSTART:20260729T140000Z
DTEND:20260729T163000Z
LOCATION:1740 Central Ave., Ashland, KY 41101, United States
ROOM: Ashland Meeting Room
DESCRIPTION:Medicare and Muffins - Educational presentation
URL:https://www.thebookplace.org/event/meeting-room-use-15633
END:VEVENT
END:VCALENDAR
