BEGIN:VCALENDAR
VERSION:2.0
PRODID:-//Library Market//iCal Export//EN
BEGIN:VEVENT
SUMMARY:Baby Summer Reading! - Ashland
UID:15565
DTSTAMP:20260419T213600Z
DTSTART:20260730T170000Z
DTEND:20260730T180000Z
LOCATION:1740 Central Ave., Ashland, KY 41101, United States
ROOM: Ashland Meeting Room
DESCRIPTION:Baby Summer Reading ! 
URL:https://www.thebookplace.org/event/baby-summer-reading-ashland-15565
END:VEVENT
END:VCALENDAR
