BEGIN:VCALENDAR
VERSION:2.0
PRODID:-//Library Market//iCal Export//EN
BEGIN:VEVENT
SUMMARY:Meeting Room Use - Midland
UID:14872
DTSTAMP:20260421T224800Z
DTSTART:20260705T170000Z
DTEND:20260705T210000Z
LOCATION:6686 US Route 60, Ashland, KY 41102, United States
ROOM: Midland Meeting Room A/B
DESCRIPTION:Ashland Ky Pride’s monthly General Membership meeting. All a
 re welcome!
URL:https://www.thebookplace.org/event/meeting-room-use-14872
END:VEVENT
END:VCALENDAR
