BEGIN:VCALENDAR
VERSION:2.0
PRODID:-//Library Market//iCal Export//EN
BEGIN:VEVENT
SUMMARY:B. Y. O. C - Bring Your Own Craft! - Ashland
UID:15669
DTSTAMP:20260423T033800Z
DTSTART:20260625T220000Z
DTEND:20260626T000000Z
LOCATION:1740 Central Ave., Ashland, KY 41101, United States
ROOM: Ashland Meeting Room
DESCRIPTION:B.Y.O.C Bring Your Own Craft! Bring your project and let’s 
 get crafty together! Anything from crocheting to quilting to painting to s
 ketching! Just bring it and let’s hang out! All ages, children and twee
 ns must be accompanied by an adult at all times. For more information, co
 ntact Tiffany at tseibert@thebookplace.org
URL:https://www.thebookplace.org/index.php/event/b-y-o-c-bring-your-own-cr
 aft-ashland-15669
END:VEVENT
END:VCALENDAR
