BEGIN:VCALENDAR
VERSION:2.0
PRODID:-//Library Market//iCal Export//EN
BEGIN:VEVENT
SUMMARY:Baby Summer Reading! - Ashland
UID:15559
DTSTAMP:20260420T030000Z
DTSTART:20260618T170000Z
DTEND:20260618T180000Z
LOCATION:1740 Central Ave., Ashland, KY 41101, United States
ROOM: Ashland Meeting Room
DESCRIPTION:Baby Summer Reading ! 
URL:https://www.thebookplace.org/index.php/event/baby-summer-reading-ashla
 nd-15559
END:VEVENT
END:VCALENDAR
