BEGIN:VCALENDAR
VERSION:2.0
PRODID:-//Library Market//iCal Export//EN
BEGIN:VEVENT
SUMMARY:Public Support Group for Dementia - Meeting Room Use - Midland
UID:15553
DTSTAMP:20260420T024000Z
DTSTART:20260513T174500Z
DTEND:20260513T194500Z
LOCATION:6686 US Route 60, Ashland, KY 41102, United States
ROOM: Midland Meeting Room A/B
DESCRIPTION:Public Support Group for Dementia.
URL:https://www.thebookplace.org/index.php/event/meeting-room-use-15553
END:VEVENT
END:VCALENDAR
