BEGIN:VCALENDAR
VERSION:2.0
PRODID:-//Library Market//iCal Export//EN
BEGIN:VEVENT
SUMMARY:Meeting Room Use - Midland
UID:15320
DTSTAMP:20260420T032000Z
DTSTART:20260612T140000Z
DTEND:20260612T170000Z
LOCATION:6686 US Route 60, Ashland, KY 41102, United States
ROOM: Midland Meeting Room A/B
DESCRIPTION:Reoccurring training for gun shops in the area. Go over new la
 ws and ordinances and such. 
URL:https://www.thebookplace.org/index.php/event/meeting-room-use-midland-
 15320
END:VEVENT
END:VCALENDAR
