BEGIN:VCALENDAR
VERSION:2.0
PRODID:-//Library Market//iCal Export//EN
BEGIN:VEVENT
SUMMARY:Meeting Room Use - Ashland
UID:15274
DTSTAMP:20260421T035700Z
DTSTART:20260714T220000Z
DTEND:20260714T233000Z
LOCATION:1740 Central Ave., Ashland, KY 41101, United States
ROOM: Ashland Meeting Room
DESCRIPTION:Discuss photography and talk about events.
URL:https://www.thebookplace.org/index.php/event/meeting-room-use-15274
END:VEVENT
END:VCALENDAR
